BEGIN:VCALENDAR
VERSION:2.0
PRODID:-//Lukas Michel | Management Insights//NONSGML kigkonsult.se iCalcre
 ator 2.16.12//
METHOD:PUBLISH
X-MS-OLK-FORCEINSPECTOROPEN:TRUE
BEGIN:VEVENT
UID:20260419T152025CEST-1633iXeVVs@Lukas Michel | Management Insights
DTSTAMP:20260419T132025Z
DESCRIPTION:Für Führungskräfte\, Verwaltungsräte und Berater:innen\n\n\nZie
 l\n\nDiese einstündige Masterclass vermittelt eine strukturierte Einführun
 g in das Konzept organisationaler Klarheit und die Logik der Organisations
 zwillinge.\nSie zeigt auf\, warum Klarheit der Veränderung vorausgehen mus
 s und wie evidenzbasierte Reflexion bessere Führungs-\, Governance- und Ma
 nagemententscheidungen ermöglicht.\n\n\nFür wen\n\nDie Masterclass richtet
  sich an Führungskräfte\, Verwaltungsräte und Berater:innen\, die den Ansa
 tz\, die Sprache und die zugrunde liegende Logik verstehen möchten\, bevor
  sie sich weiter engagieren.\n\n\nFormat\n\nOnline (Zoom)\nKleingruppe\nDi
 alogisch und moderiert\nSprache: Englisch\, Deutsch nach Bedarf\n\n\nDauer
 \n\n60 Minuten\n\n\nZeit\n\nMEZ—Mitteleuropäische Zeit\n\n\nVerfügbarkeit
 \n\nMonatlich oder auf Anfrage\n\nAnfrage für eine PRIVATE SESSION\n\n\nAn
 meldung\n\nFür die monatliche Session\n\nAngemeldete Teilnehmende erhalten
  die Terminanfrage\, Zugangsdaten und vorbereitende Informationen.\n
DTSTART:20260521T170000
DTEND:20260521T173000
LOCATION:Online (Zoom)
ORGANIZER:MAILTO:Lukas Michel | Management Insights <michel@management-insi
 ghts.ch>
SUMMARY:Klarheit vor Veränderung – Masterclass
END:VEVENT
END:VCALENDAR
