BEGIN:VCALENDAR
VERSION:2.0
PRODID:-//Lukas Michel | Management Insights//NONSGML kigkonsult.se iCalcre
 ator 2.16.12//
METHOD:PUBLISH
X-MS-OLK-FORCEINSPECTOROPEN:TRUE
BEGIN:VEVENT
UID:20260419T170035CEST-4623zprsto@Lukas Michel | Management Insights
DTSTAMP:20260419T150035Z
DESCRIPTION:For Leaders\, board members\, and consultants\n\n\nPurpose\n\nT
 his one-hour Masterclass provides a structured introduction to the concept
  of organizational clarity and the logic behind Organization Twins.\nIt ex
 plains why clarity must precede change and how evidence-based reflection e
 nables better leadership\, governance\, and management decisions.\n\n\nFor
  Whom\n\nThis session is designed for leaders\, board members\, and consul
 tants who want to understand the approach\, language\, and underlying logi
 c before deciding how to engage further.\n\n\nFormat\n\nOnline (Zoom)\nSma
 ll group\nDialog-based and facilitated\nLanguage: English (German on deman
 d)\n\n\nDuration\n\n60 minutes\n\n\nTime\n\nCET—Central European Time.\n\n
 \nAvailability\n\nMonthly or on demand\n\nRequest your PRIVATE SESSION\n\n
 \nRegistration\n\nFor the monthly session\nRegistered participants receive
  access details and preparatory information.\n
DTSTART:20260521T170000
DTEND:20260521T173000
LOCATION:Online (Zoom)
ORGANIZER:MAILTO:Lukas Michel | Management Insights <michel@management-insi
 ghts.ch>
SUMMARY:Clarity Before Change – Masterclass
END:VEVENT
END:VCALENDAR
